BEGIN:VCALENDAR
PRODID:-//AT Content Types//AT Event//EN
VERSION:2.0
METHOD:PUBLISH
BEGIN:VEVENT
DTSTAMP:20210223T202410Z
CREATED:20170604T121343Z
UID:ATEvent-f432ca85e1d647d498dc6c4855dd7a5a
LAST-MODIFIED:20170605T021136Z
SUMMARY:'Life on the River' - Sepik and Amazon: Ambonwari and Murui
DTSTART:20170604T230000Z
DTEND:20170630T120000Z
DESCRIPTION:The lives of the Ambonwari people of Papua New Guinea in t
 he Sepik and Murui people of Colombia in the Amazon are both defined a
 nd made possible by the rivers on which they live their days. This exh
 ibition explores the idea of life on the river\, and the understanding
 s and relationship that we – JCU researchers – have forged with ou
 r collaborators and interlocutors in these places. Both river basins\,
  Sepik and Amazon\, share unique but similar ecological features and c
 ultural values. This exhibition shows commonalities and differences in
  more practical terms\, through lived experience of the life on the ri
 ver. The themes include canoe making\, fishing\, hunting\, and food pr
 eparation. Through joint collection of photographs\, videos\, collages
 \, drawings\, and personal objects\, the exhibition presents our field
 work experiences\, research methods\, and collaborative approaches\, a
 s well as engaging important ecological and social issues happening in
  the tropics.\n\nPresented by ALTAR members: Daniela Vávrová\, Kasia
  Wojtylak\, and Kristian Lupinski
LOCATION:The Cairns Institute
CLASS:PUBLIC
END:VEVENT
END:VCALENDAR
