BEGIN:VCALENDAR
PRODID:-//AT Content Types//AT Event//EN
VERSION:1.0
BEGIN:VEVENT
DTSTART:20170727T010000Z
DTEND:20170727T030000Z
DCREATED:20170619T020202Z
UID:ATEvent-b0ca07a4316f4dc88cde169069aedba0
SEQUENCE:0
LAST-MODIFIED:20170625T063308Z
SUMMARY:Servitude and Emancipation
DESCRIPTION:Join the first JCU Critical Theory seminar of SP2 2017 - a
  discussion of Etienne de la Boetie's Discourse on Voluntary Servitude
  and Eric Lordon's Willing Slaves of Capital.
LOCATION:TSV: 9-2\, CNS: B1-103
PRIORITY:3
TRANSP:0
END:VEVENT
END:VCALENDAR
